BEGIN:VCALENDAR
VERSION:2.0
PRODID:-//157.245.216.152//NONSGML kigkonsult.se iCalcreator 2.26.9//
CALSCALE:GREGORIAN
METHOD:PUBLISH
X-WR-CALNAME:St. Joseph&#039\;s\, Catholic Parish Malvern
X-WR-CALDESC:Stepping out in Faith and Trust
X-FROM-URL:https://stjosephsmalvern.org.au
X-WR-TIMEZONE:Australia/Melbourne
BEGIN:VTIMEZONE
TZID:Australia/Melbourne
X-LIC-LOCATION:Australia/Melbourne
BEGIN:STANDARD
DTSTART:20200405T030000
TZOFFSETFROM:+1100
TZOFFSETTO:+1000
RDATE:20210404T030000
TZNAME:AEST
END:STANDARD
BEGIN:DAYLIGHT
DTSTART:20191006T020000
TZOFFSETFROM:+1000
TZOFFSETTO:+1100
RDATE:20201004T020000
TZNAME:AEDT
END:DAYLIGHT
END:VTIMEZONE
BEGIN:VEVENT
UID:phi1b8g1iktdsaj4i3gbptuj9s@google.com
DTSTAMP:20200227T172014Z
CATEGORIES:
CONTACT:
DESCRIPTION:
DTSTART;TZID=Australia/Melbourne:20180106T180000
DTEND;TZID=Australia/Melbourne:20180106T190000
EXDATE;TZID=Australia/Melbourne:20161231T180000
EXDATE;TZID=Australia/Melbourne:20170107T180000
EXDATE;TZID=Australia/Melbourne:20170114T180000
EXDATE;TZID=Australia/Melbourne:20170121T180000
EXDATE;TZID=Australia/Melbourne:20170128T180000
EXDATE;TZID=Australia/Melbourne:20170204T180000
EXDATE;TZID=Australia/Melbourne:20170211T180000
EXDATE;TZID=Australia/Melbourne:20170218T180000
EXDATE;TZID=Australia/Melbourne:20170225T180000
EXDATE;TZID=Australia/Melbourne:20170304T180000
EXDATE;TZID=Australia/Melbourne:20170311T180000
EXDATE;TZID=Australia/Melbourne:20170318T180000
EXDATE;TZID=Australia/Melbourne:20170325T180000
EXDATE;TZID=Australia/Melbourne:20170401T180000
EXDATE;TZID=Australia/Melbourne:20170408T180000
EXDATE;TZID=Australia/Melbourne:20170415T180000
EXDATE;TZID=Australia/Melbourne:20170422T180000
EXDATE;TZID=Australia/Melbourne:20170429T180000
EXDATE;TZID=Australia/Melbourne:20170506T180000
EXDATE;TZID=Australia/Melbourne:20170513T180000
EXDATE;TZID=Australia/Melbourne:20170520T180000
EXDATE;TZID=Australia/Melbourne:20170527T180000
EXDATE;TZID=Australia/Melbourne:20170603T180000
EXDATE;TZID=Australia/Melbourne:20170610T180000
EXDATE;TZID=Australia/Melbourne:20170617T180000
EXDATE;TZID=Australia/Melbourne:20170624T180000
EXDATE;TZID=Australia/Melbourne:20170701T180000
EXDATE;TZID=Australia/Melbourne:20170708T180000
EXDATE;TZID=Australia/Melbourne:20170715T180000
EXDATE;TZID=Australia/Melbourne:20170722T180000
EXDATE;TZID=Australia/Melbourne:20170729T180000
EXDATE;TZID=Australia/Melbourne:20170805T180000
EXDATE;TZID=Australia/Melbourne:20170812T180000
EXDATE;TZID=Australia/Melbourne:20170819T180000
EXDATE;TZID=Australia/Melbourne:20170826T180000
EXDATE;TZID=Australia/Melbourne:20170902T180000
EXDATE;TZID=Australia/Melbourne:20170909T180000
EXDATE;TZID=Australia/Melbourne:20170916T180000
EXDATE;TZID=Australia/Melbourne:20170923T180000
EXDATE;TZID=Australia/Melbourne:20170930T180000
EXDATE;TZID=Australia/Melbourne:20171007T180000
EXDATE;TZID=Australia/Melbourne:20171014T180000
EXDATE;TZID=Australia/Melbourne:20171021T180000
EXDATE;TZID=Australia/Melbourne:20171028T180000
EXDATE;TZID=Australia/Melbourne:20171104T180000
EXDATE;TZID=Australia/Melbourne:20171111T180000
EXDATE;TZID=Australia/Melbourne:20171118T180000
EXDATE;TZID=Australia/Melbourne:20171125T180000
EXDATE;TZID=Australia/Melbourne:20171202T180000
EXDATE;TZID=Australia/Melbourne:20171209T180000
EXDATE;TZID=Australia/Melbourne:20171216T180000
EXDATE;TZID=Australia/Melbourne:20171223T180000
EXDATE;TZID=Australia/Melbourne:20171230T180000
LOCATION:Cabrini Hospital Chapel
RRULE:FREQ=WEEKLY;BYDAY=SA
SEQUENCE:0
SUMMARY:Mass
URL:https://stjosephsmalvern.org.au/event/mass-5/
END:VEVENT
END:VCALENDAR
