BEGIN:VCALENDAR
VERSION:2.0
PRODID:-//157.245.216.152//NONSGML kigkonsult.se iCalcreator 2.26.9//
CALSCALE:GREGORIAN
METHOD:PUBLISH
X-WR-CALNAME:St. Joseph&#039\;s\, Catholic Parish Malvern
X-WR-CALDESC:Stepping out in Faith and Trust
X-FROM-URL:https://stjosephsmalvern.org.au
X-WR-TIMEZONE:Australia/Melbourne
BEGIN:VTIMEZONE
TZID:Australia/Melbourne
X-LIC-LOCATION:Australia/Melbourne
BEGIN:STANDARD
DTSTART:20200405T030000
TZOFFSETFROM:+1100
TZOFFSETTO:+1000
RDATE:20210404T030000
TZNAME:AEST
END:STANDARD
BEGIN:DAYLIGHT
DTSTART:20191006T020000
TZOFFSETFROM:+1000
TZOFFSETTO:+1100
RDATE:20201004T020000
TZNAME:AEDT
END:DAYLIGHT
END:VTIMEZONE
BEGIN:VEVENT
UID:4aqjjfhelkm38jt7tl1on4cefc@google.com
DTSTAMP:20200227T172158Z
CATEGORIES:
CONTACT:
DESCRIPTION:
DTSTART;TZID=Australia/Melbourne:20180107T100000
DTEND;TZID=Australia/Melbourne:20180107T110000
EXDATE;TZID=Australia/Melbourne:20170101T100000
EXDATE;TZID=Australia/Melbourne:20170108T100000
EXDATE;TZID=Australia/Melbourne:20170115T100000
EXDATE;TZID=Australia/Melbourne:20170122T100000
EXDATE;TZID=Australia/Melbourne:20170129T100000
EXDATE;TZID=Australia/Melbourne:20170205T100000
EXDATE;TZID=Australia/Melbourne:20170212T100000
EXDATE;TZID=Australia/Melbourne:20170219T100000
EXDATE;TZID=Australia/Melbourne:20170226T100000
EXDATE;TZID=Australia/Melbourne:20170305T100000
EXDATE;TZID=Australia/Melbourne:20170312T100000
EXDATE;TZID=Australia/Melbourne:20170319T100000
EXDATE;TZID=Australia/Melbourne:20170326T100000
EXDATE;TZID=Australia/Melbourne:20170402T100000
EXDATE;TZID=Australia/Melbourne:20170409T100000
EXDATE;TZID=Australia/Melbourne:20170416T100000
EXDATE;TZID=Australia/Melbourne:20170423T100000
EXDATE;TZID=Australia/Melbourne:20170430T100000
EXDATE;TZID=Australia/Melbourne:20170507T100000
EXDATE;TZID=Australia/Melbourne:20170514T100000
EXDATE;TZID=Australia/Melbourne:20170521T100000
EXDATE;TZID=Australia/Melbourne:20170528T100000
EXDATE;TZID=Australia/Melbourne:20170604T100000
EXDATE;TZID=Australia/Melbourne:20170611T100000
EXDATE;TZID=Australia/Melbourne:20170618T100000
EXDATE;TZID=Australia/Melbourne:20170625T100000
EXDATE;TZID=Australia/Melbourne:20170702T100000
EXDATE;TZID=Australia/Melbourne:20170709T100000
EXDATE;TZID=Australia/Melbourne:20170716T100000
EXDATE;TZID=Australia/Melbourne:20170723T100000
EXDATE;TZID=Australia/Melbourne:20170730T100000
EXDATE;TZID=Australia/Melbourne:20170806T100000
EXDATE;TZID=Australia/Melbourne:20170813T100000
EXDATE;TZID=Australia/Melbourne:20170820T100000
EXDATE;TZID=Australia/Melbourne:20170827T100000
EXDATE;TZID=Australia/Melbourne:20170903T100000
EXDATE;TZID=Australia/Melbourne:20170910T100000
EXDATE;TZID=Australia/Melbourne:20170917T100000
EXDATE;TZID=Australia/Melbourne:20170924T100000
EXDATE;TZID=Australia/Melbourne:20171001T100000
EXDATE;TZID=Australia/Melbourne:20171008T100000
EXDATE;TZID=Australia/Melbourne:20171015T100000
EXDATE;TZID=Australia/Melbourne:20171022T100000
EXDATE;TZID=Australia/Melbourne:20171029T100000
EXDATE;TZID=Australia/Melbourne:20171105T100000
EXDATE;TZID=Australia/Melbourne:20171112T100000
EXDATE;TZID=Australia/Melbourne:20171119T100000
EXDATE;TZID=Australia/Melbourne:20171126T100000
EXDATE;TZID=Australia/Melbourne:20171203T100000
EXDATE;TZID=Australia/Melbourne:20171210T100000
EXDATE;TZID=Australia/Melbourne:20171217T100000
EXDATE;TZID=Australia/Melbourne:20171224T100000
EXDATE;TZID=Australia/Melbourne:20171231T100000
LOCATION:St. Joseph's Church
RRULE:FREQ=WEEKLY;BYDAY=SU
SEQUENCE:0
SUMMARY:Mass
URL:https://stjosephsmalvern.org.au/event/mass-19/
END:VEVENT
END:VCALENDAR
