BEGIN:VCALENDAR
VERSION:2.0
PRODID:-//157.245.216.152//NONSGML kigkonsult.se iCalcreator 2.26.9//
CALSCALE:GREGORIAN
METHOD:PUBLISH
X-WR-CALNAME:St. Joseph&#039\;s\, Catholic Parish Malvern
X-WR-CALDESC:Stepping out in Faith and Trust
X-FROM-URL:https://stjosephsmalvern.org.au
X-WR-TIMEZONE:Australia/Melbourne
BEGIN:VTIMEZONE
TZID:Australia/Melbourne
X-LIC-LOCATION:Australia/Melbourne
BEGIN:STANDARD
DTSTART:20200405T030000
TZOFFSETFROM:+1100
TZOFFSETTO:+1000
RDATE:20210404T030000
TZNAME:AEST
END:STANDARD
BEGIN:DAYLIGHT
DTSTART:20191006T020000
TZOFFSETFROM:+1000
TZOFFSETTO:+1100
RDATE:20201004T020000
TZNAME:AEDT
END:DAYLIGHT
END:VTIMEZONE
BEGIN:VEVENT
UID:itp4mg9tpfef0pbabsub3nc9m8@google.com
DTSTAMP:20200227T172210Z
CATEGORIES:
CONTACT:
DESCRIPTION:
DTSTART;TZID=Australia/Melbourne:20171231T180000
DTEND;TZID=Australia/Melbourne:20171231T190000
EXDATE;TZID=Australia/Melbourne:20170101T180000
EXDATE;TZID=Australia/Melbourne:20170108T180000
EXDATE;TZID=Australia/Melbourne:20170115T180000
EXDATE;TZID=Australia/Melbourne:20170122T180000
EXDATE;TZID=Australia/Melbourne:20170129T180000
EXDATE;TZID=Australia/Melbourne:20170205T180000
EXDATE;TZID=Australia/Melbourne:20170212T180000
EXDATE;TZID=Australia/Melbourne:20170219T180000
EXDATE;TZID=Australia/Melbourne:20170226T180000
EXDATE;TZID=Australia/Melbourne:20170305T180000
EXDATE;TZID=Australia/Melbourne:20170312T180000
EXDATE;TZID=Australia/Melbourne:20170319T180000
EXDATE;TZID=Australia/Melbourne:20170326T180000
EXDATE;TZID=Australia/Melbourne:20170402T180000
EXDATE;TZID=Australia/Melbourne:20170409T180000
EXDATE;TZID=Australia/Melbourne:20170416T180000
EXDATE;TZID=Australia/Melbourne:20170423T180000
EXDATE;TZID=Australia/Melbourne:20170430T180000
EXDATE;TZID=Australia/Melbourne:20170507T180000
EXDATE;TZID=Australia/Melbourne:20170514T180000
EXDATE;TZID=Australia/Melbourne:20170521T180000
EXDATE;TZID=Australia/Melbourne:20170528T180000
EXDATE;TZID=Australia/Melbourne:20170604T180000
EXDATE;TZID=Australia/Melbourne:20170611T180000
EXDATE;TZID=Australia/Melbourne:20170618T180000
EXDATE;TZID=Australia/Melbourne:20170625T180000
EXDATE;TZID=Australia/Melbourne:20170702T180000
EXDATE;TZID=Australia/Melbourne:20170709T180000
EXDATE;TZID=Australia/Melbourne:20170716T180000
EXDATE;TZID=Australia/Melbourne:20170723T180000
EXDATE;TZID=Australia/Melbourne:20170730T180000
EXDATE;TZID=Australia/Melbourne:20170806T180000
EXDATE;TZID=Australia/Melbourne:20170813T180000
EXDATE;TZID=Australia/Melbourne:20170820T180000
EXDATE;TZID=Australia/Melbourne:20170827T180000
EXDATE;TZID=Australia/Melbourne:20170903T180000
EXDATE;TZID=Australia/Melbourne:20170910T180000
EXDATE;TZID=Australia/Melbourne:20170917T180000
EXDATE;TZID=Australia/Melbourne:20170924T180000
EXDATE;TZID=Australia/Melbourne:20171001T180000
EXDATE;TZID=Australia/Melbourne:20171008T180000
EXDATE;TZID=Australia/Melbourne:20171015T180000
EXDATE;TZID=Australia/Melbourne:20171022T180000
EXDATE;TZID=Australia/Melbourne:20171029T180000
EXDATE;TZID=Australia/Melbourne:20171105T180000
EXDATE;TZID=Australia/Melbourne:20171112T180000
EXDATE;TZID=Australia/Melbourne:20171119T180000
EXDATE;TZID=Australia/Melbourne:20171126T180000
EXDATE;TZID=Australia/Melbourne:20171203T180000
EXDATE;TZID=Australia/Melbourne:20171210T180000
EXDATE;TZID=Australia/Melbourne:20171217T180000
EXDATE;TZID=Australia/Melbourne:20171224T180000
EXDATE;TZID=Australia/Melbourne:20180401T180000
EXDATE;TZID=Australia/Melbourne:20190421T180000
EXDATE;TZID=Australia/Melbourne:20200412T180000
LOCATION:St. Joseph's Church
RRULE:FREQ=WEEKLY;BYDAY=SU
SEQUENCE:0
SUMMARY:Mass
URL:https://stjosephsmalvern.org.au/event/mass-38/
END:VEVENT
END:VCALENDAR
