BEGIN:VCALENDAR
VERSION:2.0
PRODID:-//157.245.216.152//NONSGML kigkonsult.se iCalcreator 2.26.9//
CALSCALE:GREGORIAN
METHOD:PUBLISH
X-WR-CALNAME:St. Joseph&#039\;s\, Catholic Parish Malvern
X-WR-CALDESC:Stepping out in Faith and Trust
X-FROM-URL:https://stjosephsmalvern.org.au
X-WR-TIMEZONE:Australia/Melbourne
BEGIN:VTIMEZONE
TZID:Australia/Melbourne
X-LIC-LOCATION:Australia/Melbourne
BEGIN:STANDARD
DTSTART:20200405T030000
TZOFFSETFROM:+1100
TZOFFSETTO:+1000
RDATE:20210404T030000
TZNAME:AEST
END:STANDARD
BEGIN:DAYLIGHT
DTSTART:20191006T020000
TZOFFSETFROM:+1000
TZOFFSETTO:+1100
RDATE:20201004T020000
TZNAME:AEDT
END:DAYLIGHT
END:VTIMEZONE
BEGIN:VEVENT
UID:5fri246t0qk0jf8mniet0quosq@google.com
DTSTAMP:20200227T171837Z
CATEGORIES:
CONTACT:
DESCRIPTION:
DTSTART;TZID=Australia/Melbourne:20200103T091500
DTEND;TZID=Australia/Melbourne:20200103T094500
EXDATE;TZID=Australia/Melbourne:20200410T091500
EXDATE;TZID=Australia/Melbourne:20201225T091500
LOCATION:St. Joseph's Church
RRULE:FREQ=WEEKLY;BYDAY=FR
SEQUENCE:0
SUMMARY:Mass
URL:https://stjosephsmalvern.org.au/event/mass-35/
END:VEVENT
END:VCALENDAR
